BEGIN:VCALENDAR
VERSION:2.0
PRODID:-//https://medi-sota.org/main///NONSGML kigkonsult.se iCalcreator 2.10.15//
METHOD:PUBLISH
BEGIN:VEVENT
UID:20260423T025248UTC-2386zuL6vs@https://medi-sota.org/main/
DTSTAMP:20260423T025248Z
DESCRIPTION: https://medi-sota.org/main/index.php/en/meetings-events/event/
 256-business-office-billing-department
DTSTART:20241016T143000Z
DTEND:20241016T170000Z
LOCATION:Virtual ()
SUMMARY:Business Office/Billing Department
URL:https://medi-sota.org/main/index.php/en/meetings-events/event/256-busin
 ess-office-billing-department
END:VEVENT
END:VCALENDAR
