BEGIN:VCALENDAR
VERSION:2.0
PRODID:-//https://medi-sota.org/main///NONSGML kigkonsult.se iCalcreator 2.10.15//
METHOD:PUBLISH
BEGIN:VEVENT
UID:20260424T160405UTC-94318D0Ust@https://medi-sota.org/main/
DTSTAMP:20260424T160405Z
DESCRIPTION:**Please register by emailing Alyssa Christianson at&nbsp\;achr
 istianson@medi-sota.org&nbsp\;\nDescription:An evidence-based\, interprofe
 ssional\, and multidisciplinary training program that equips the entire ma
 ternity care team with skills to effectively manage obstetric emergencies.
  This comprehensive course encourages a standardized team-based approach a
 mongst physicians\, residents\, nurse midwives\, registered nurses and oth
 er members of the maternity care team to improve patient safety and positi
 vely impact maternal outcomes.\nOverall Course Objectives: \n\nDiscuss met
 hods of managing pregnancy and birth urgencies and emergencies\, which sta
 ndardizes the skills of practicing maternity care providers.\nDemonstrate 
 content and skill acquisition as evidenced by successful completion of onl
 ine course examination\, skills workstations\, and group testing stations.
 \n\nFaculty:\nDr. Jackie VromanDr. Annie WhiteleyDr. Megan WilkinsonDr. Kr
 isten Beikirch\n&nbsp\;\nAccreditation:\nThe AAFP has reviewed ALSO Provid
 er Course and deemed it acceptable for up to 8.00 Live AAFP Prescribed cre
 dits. Term of Approval is from 11/1/2024 to 11/1/2024. Physicians should c
 laim only the credit commensurate with the extent of their participation i
 n the activity. \nThe American Academy of Family Physicians is approved as
  a Provider of continuing nursing education by the Kansas State Board of N
 ursing. This course offering is approved for 9.60 contact hours applicable
  for APRN\, RN\, or LPN relicensure. Kansas State Board of Nursing Provide
 r number: LT0278-0312. This is an advanced level course and may not be sui
 table for all general continuing nursing education. \nCOURSE FEEMEDI-SOTA 
 MEMBER- $375.00\nNON-MEMBER- $500.00\nThe course fee includes tuition\, sy
 llabus\, and materials.&nbsp\; No refunds are available for failure to com
 plete the online content review and examination.Learners will be provided 
 an email with a link and course code to the online portion of the ALSO Pro
 vider Course. Content consists of a pre-test\; recorded lectures\; online 
 case studies\; recorded workstation demonstrations\; post-test and a cours
 e evaluation. After completion of the evaluation the learners must Claim C
 redit to show as ‘Complete’ in the Sponsor’s Course Dashboard and to quali
 fy to attend the Live Course.\nRefund/Cancellation Policy: Cancellations m
 ust be made no later than 15 business days prior to the course. The full c
 ourse fee will be charged if cancellation is made in less than 15 business
  days. Full refunds will be given for all classes cancelled by Medi-Sota. 
 Registration is NOT transferable to another person. https://medi-sota.org/
 main/index.php/en/education/workshop-calendar/event/282-advanced-life-supp
 ort-in-obstetrics-also
DTSTART:20241101T124500Z
DTEND:20241101T220000Z
LOCATION:Pipestone County Medical Center (916 4th Ave SW \, 56164 \, Pipest
 one \, MN)
SUMMARY:Advanced Life Support in Obstetrics (ALSO) 
URL:https://medi-sota.org/main/index.php/en/education/workshop-calendar/eve
 nt/282-advanced-life-support-in-obstetrics-also
END:VEVENT
END:VCALENDAR
